BEGIN:VCALENDAR
VERSION:2.0
PRODID:-//Tukios.com/
BEGIN:VEVENT
UID:ddeb03fe-6393-4f36-9c42-c001d6a1751c@www.blaschkeschneider.com
DTSTAMP:20260421T170604Z
DTSTART:20260425T143000Z
DTEND:20260425T153000Z
SUMMARY:Visitation
DESCRIPTION:
URL:https://www.blaschkeschneider.com/obituaries/james-schams
LOCATION:     
GEO:0;0
END:VEVENT
END:VCALENDAR