BEGIN:VCALENDAR
VERSION:2.0
PRODID:-//Tukios.com/
BEGIN:VEVENT
UID:4c38edba-7d84-4ee0-81b6-33d953703369@www.blaschkeschneider.com
DTSTAMP:20260421T170105Z
DTSTART:20260425T153000Z
DTEND:20260425T161500Z
SUMMARY:Mass
DESCRIPTION:
URL:https://www.blaschkeschneider.com/obituaries/james-schams
LOCATION:     
GEO:0;0
END:VEVENT
END:VCALENDAR